BEGIN:VCALENDAR
VERSION:2.0
PRODID:-//wp-events-plugin.com//7.2.3.1//EN
BEGIN:VEVENT
UID:871@kolamifrederick.org
DTSTART;TZID=America/New_York:20200108T123000
DTEND;TZID=America/New_York:20200108T123000
DTSTAMP:20210118T015936Z
URL:https://www.kolamifrederick.org/events/ckaf-book-club-2020-01-08/
SUMMARY:CKAF Book Club
DESCRIPTION:
ATTACH;FMTTYPE=image/jpeg:https://www.kolamifrederick.org/wp-content/uploa
 ds/2019/07/book_club.jpg
CATEGORIES:Sisterhood,zFeatured Events
END:VEVENT
BEGIN:VTIMEZONE
TZID:America/New_York
X-LIC-LOCATION:America/New_York
BEGIN:STANDARD
DTSTART:20191103T010000
TZOFFSETFROM:-0400
TZOFFSETTO:-0500
TZNAME:EST
END:STANDARD
END:VTIMEZONE
END:VCALENDAR